BEGIN:VCALENDAR
VERSION:2.0
PRODID:-//eventon.com NONSGML v1.0//EN
CALSCALE:GREGORIAN
METHOD:PUBLISH
BEGIN:VEVENT
UID:69e4e56c44124
DTSTAMP:20260419T142340Z
DTSTART:20240530T233000Z
DTEND:20240531T003000Z
LOCATION:Salle Bourgie 1339 Sherbrooke O
SUMMARY:Opéra en 3 légendes
DESCRIPTION:This concert presents three contemporary creations by women. Th
 e first is inspired by the poetry of Emné Nasereddine (winner of the Prix 
 Émile Nelligan)\,  the second evokes traditional Abenaki tales\,  and the 
 last is a black comedy on the theme of the housing crisis.\nhttps://sixtrum
 .com/events/opera-3-legendes-copy/
URL:https://sixtrum.com/events/opera-3-legendes-copy/
END:VEVENT
END:VCALENDAR