BEGIN:VCALENDAR
VERSION:2.0
PRODID:-//eventon.com NONSGML v1.0//EN
CALSCALE:GREGORIAN
METHOD:PUBLISH
BEGIN:VEVENT
UID:69e7387b0548f
DTSTAMP:20260421T084235Z
DTSTART:20240505T150000Z
DTEND:20240505T173000Z
LOCATION:Centre des arts de la scène Jean-Besré 250 Rue du Dépôt\,  Sherbrooke\,  QC J1H 5E9
SUMMARY:L'archipel aux mille sons
DESCRIPTION:En coproduction avec Le Vivier\,  ce spectacle est présenté d
 ans le cadre du Festival Petits Bonheurs de Sherbrooke. SIXTRUM emmène les
  jeunes spectateurs à la découverte de son archipel aux mille sons. Trois
  percussionnistes s&rsquo;arrêtent sur chacune de ces îles imaginaires po
 ur y introduire une musique à la fois intime[..]\nhttps://sixtrum.com/even
 ts/larchipel-aux-mille-sons-copy-3/
URL:https://sixtrum.com/events/larchipel-aux-mille-sons-copy-3/
END:VEVENT
END:VCALENDAR