BEGIN:VCALENDAR
VERSION:2.0
PRODID:-//eventon.com NONSGML v1.0//EN
CALSCALE:GREGORIAN
METHOD:PUBLISH
BEGIN:VEVENT
UID:69e738937968e
DTSTAMP:20260421T084259Z
DTSTART:20230508T133000Z
DTEND:20230508T163000Z
LOCATION:Théâtre des Muses 1395 boul. de la Concorde Ouest\,  Laval\,  QC\,  H7N 5W1
SUMMARY:L'archipel aux mille sons Exemplaire
DESCRIPTION:The percussion ensemble SIXTRUM takes young spectators on an ex
 ploration of its Archipelago of a thousand sounds. Three percussionists sto
 p on each of these imaginary islands to discover music that is by turns int
 imate and exuberant\,  sailing from one to the other on musical themes insp
 ired by water and wind.[..]\nhttps://sixtrum.com/events/larchipel-aux-mille
 -sons-2-2-2/
URL:https://sixtrum.com/events/larchipel-aux-mille-sons-2-2-2/
END:VEVENT
END:VCALENDAR