BEGIN:VCALENDAR
VERSION:2.0
PRODID:-//eventon.com NONSGML v1.0//EN
CALSCALE:GREGORIAN
METHOD:PUBLISH
BEGIN:VEVENT
UID:69e73a535ec07
DTSTAMP:20260421T085027Z
DTSTART:20230507T205000Z
DTEND:20230507T205000Z
LOCATION:Théâtre des Muses 1395 boul. de la Concorde Ouest\,  Laval\,  QC\,  H7N 5W1
SUMMARY:L'archipel aux mille sons
DESCRIPTION:The percussion ensemble SIXTRUM takes young spectators on an ex
 ploration of its Archipelago of a thousand sounds. Three percussionists sto
 p on each of these imaginary islands to discover music that is by turns int
 imate and exuberant\,  sailing from one to the other on musical themes insp
 ired by water and wind.[..]\nhttps://sixtrum.com/events/larchipel-aux-mille
 -sons-5-copy/
URL:https://sixtrum.com/events/larchipel-aux-mille-sons-5-copy/
END:VEVENT
END:VCALENDAR